BEGIN:VCALENDAR
PRODID:-//eluceo/ical//2.0/EN
VERSION:2.0
CALSCALE:GREGORIAN
BEGIN:VEVENT
UID:35e6ce632362dd2197bde2fed2e335b2
DTSTAMP:20260423T104638Z
SUMMARY:10a Contemporary + Birthday Shabbat Service-HAS
DESCRIPTION:The Knoxville Jewish Alliance\nThe Knoxville Jewish Alliance Ca
 lendar\nhttps://jewishknoxville.org/calendar/10a-contemporary-birthday-sha
 bbat-service-has\n\nJoin Rabbi Shush Carson in person and on Zoom for a Co
 ntemporary Shabbat service AND a special Birthday blessing for those born 
 in July.\n\nKiddush to follow.
DTSTART;TZID=America/New_York:20250726T100000
DTEND;TZID=America/New_York:20250726T120000
END:VEVENT
END:VCALENDAR
