BEGIN:VCALENDAR
PRODID:-//eluceo/ical//2.0/EN
VERSION:2.0
CALSCALE:GREGORIAN
BEGIN:VEVENT
UID:d52c599205ad37eea92c10a7bc83d37e
DTSTAMP:20260423T082542Z
SUMMARY:10a Contemporary Shabbat & Birthday Shabbat-HAS
DESCRIPTION:The Knoxville Jewish Alliance\nThe Knoxville Jewish Alliance Ca
 lendar\nhttps://jewishknoxville.org/calendar/10a-contemporary-shabbat-birt
 hday-shabbat-has\n\nIf you have a June Birthday\, come let Rabbi Shush Car
 son bless you. Kiddush to follow.
DTSTART;TZID=America/New_York:20250628T100000
DTEND;TZID=America/New_York:20250628T120000
END:VEVENT
END:VCALENDAR
