BEGIN:VCALENDAR
PRODID:-//eluceo/ical//2.0/EN
VERSION:2.0
CALSCALE:GREGORIAN
BEGIN:VEVENT
UID:6eece84a22653a62505f55b5bb798619
DTSTAMP:20260421T202132Z
SUMMARY:10a-Contemporary Shabbat Services-HAS
DESCRIPTION:The Knoxville Jewish Alliance\nThe Knoxville Jewish Alliance Ca
 lendar\nhttps://jewishknoxville.org/calendar/10a-contemporary-shabbat-serv
 ices-has3214\n\nLed by Rabbi Shush Carson in person and on Zoom.\n\nKiddus
 h to follow.
DTSTART;TZID=America/New_York:20260516T100000
DTEND;TZID=America/New_York:20260516T120000
END:VEVENT
END:VCALENDAR
