BEGIN:VCALENDAR
PRODID:-//eluceo/ical//2.0/EN
VERSION:2.0
CALSCALE:GREGORIAN
BEGIN:VEVENT
UID:93ce6b4b2592a95519528bc91f1adaf7
DTSTAMP:20260424T042905Z
SUMMARY:10a Family Shabbat-HAS
DESCRIPTION:The Knoxville Jewish Alliance\nThe Knoxville Jewish Alliance Ca
 lendar\nhttps://jewishknoxville.org/calendar/10a-family-shabbat-has1\n\nFa
 mily Shabbat with Kid-friendly kiddush to follow.
DTSTART;TZID=America/New_York:20260214T100000
DTEND;TZID=America/New_York:20260214T120000
END:VEVENT
END:VCALENDAR
