BEGIN:VCALENDAR
PRODID:-//eluceo/ical//2.0/EN
VERSION:2.0
CALSCALE:GREGORIAN
BEGIN:VEVENT
UID:33853ede743d1cd26216f06906a109fe
DTSTAMP:20260423T081043Z
SUMMARY:10:00 am - Hadassah Shabbat - HA
DESCRIPTION:The Knoxville Jewish Alliance\nThe Knoxville Jewish Alliance Ca
 lendar\nhttps://jewishknoxville.org/calendar/10a-hadassah-shabbat--ha\n\nH
 adassah Shabbat
DTSTART;TZID=America/New_York:20210220T100000
DTEND;TZID=America/New_York:20210220T110000
END:VEVENT
END:VCALENDAR
