BEGIN:VCALENDAR
PRODID:-//eluceo/ical//2.0/EN
VERSION:2.0
CALSCALE:GREGORIAN
BEGIN:VEVENT
UID:703fbeaabc73a8d2970f7b949ccc7d57
DTSTAMP:20260423T034443Z
SUMMARY:10a-Learner's Shabbat-HAS
DESCRIPTION:The Knoxville Jewish Alliance\nThe Knoxville Jewish Alliance Ca
 lendar\nhttps://jewishknoxville.org/calendar/10a-learners-shabbat-has\n\nJ
 oin Rabbi Shush Carson as we learn about traditions and prayers and the wh
 ys of it all.
DTSTART;TZID=America/New_York:20250531T100000
DTEND;TZID=America/New_York:20250531T120000
END:VEVENT
END:VCALENDAR
