BEGIN:VCALENDAR
PRODID:-//eluceo/ical//2.0/EN
VERSION:2.0
CALSCALE:GREGORIAN
BEGIN:VEVENT
UID:bb44aba0bbbc0688cefef11bd4dd2817
DTSTAMP:20260424T190725Z
SUMMARY:10a Service in the Round-HAS
DESCRIPTION:The Knoxville Jewish Alliance\nThe Knoxville Jewish Alliance Ca
 lendar\nhttps://jewishknoxville.org/calendar/10a-service-in-the-round-has\
 n\nJoin Rabbi Shush Carson iin person or on Zoom for an intimate Contempor
 ary Shabbat Service.
DTSTART;TZID=America/New_York:20250712T100000
DTEND;TZID=America/New_York:20250712T120000
END:VEVENT
END:VCALENDAR
