BEGIN:VCALENDAR
PRODID:-//eluceo/ical//2.0/EN
VERSION:2.0
CALSCALE:GREGORIAN
BEGIN:VEVENT
UID:39cd39c5d74366a68f58af96bff42a11
DTSTAMP:20260425T020205Z
SUMMARY:10a Shavout Service-HA
DESCRIPTION:The Knoxville Jewish Alliance\nThe Knoxville Jewish Alliance Ca
 lendar\nhttps://jewishknoxville.org/calendar/10a-shavout-service-ha-380057
 \n\nJoin us for traditional Shavuot services. For the link\, please contac
 t the office!
DTSTART;TZID=America/New_York:20210517T100000
DTEND;TZID=America/New_York:20210517T110000
END:VEVENT
END:VCALENDAR
