BEGIN:VCALENDAR
PRODID:-//eluceo/ical//2.0/EN
VERSION:2.0
CALSCALE:GREGORIAN
BEGIN:VEVENT
UID:b24019be23979e84e1e2fb92501d51d4
DTSTAMP:20260423T123019Z
SUMMARY:10a Sukkot Yizkor Memorial Service-TBE
DESCRIPTION:The Knoxville Jewish Alliance\nThe Knoxville Jewish Alliance Ca
 lendar\nhttps://jewishknoxville.org/calendar/10a-sukkot-yizkor-memorial-se
 rvice-tbe-206767\n\nSukkot Yizkor Memorial Service
DTSTART;TZID=America/New_York:20161023T100000
DTEND;TZID=America/New_York:20161023T103000
END:VEVENT
END:VCALENDAR
