BEGIN:VCALENDAR
PRODID:-//eluceo/ical//2.0/EN
VERSION:2.0
CALSCALE:GREGORIAN
BEGIN:VEVENT
UID:63f9dc664c6894d19c9e20634de8cc7b
DTSTAMP:20260425T191147Z
SUMMARY:10a Sunday School -HA
DESCRIPTION:The Knoxville Jewish Alliance\nThe Knoxville Jewish Alliance Ca
 lendar\nhttps://jewishknoxville.org/calendar/10a-sunday-school-ha2-367457\
 n\nSunday School on Zoom 10a - 12:15\, including the Music and Israeli Da
 nce on alternating weeks. Contact the office 865-522-0701 for the links.
DTSTART;TZID=America/New_York:20201206T100000
DTEND;TZID=America/New_York:20201206T121500
END:VEVENT
END:VCALENDAR
