BEGIN:VCALENDAR
PRODID:-//eluceo/ical//2.0/EN
VERSION:2.0
CALSCALE:GREGORIAN
BEGIN:VEVENT
UID:2204a3858f6fe8b18f4058709b20a237
DTSTAMP:20260422T210558Z
SUMMARY:10am Adult Education Class instructed by Rabbi Boxt - TBE
DESCRIPTION:The Knoxville Jewish Alliance\nThe Knoxville Jewish Alliance Ca
 lendar\nhttps://jewishknoxville.org/calendar/10a-tbe-adult-education-class
 -instructed-by-rabbi-boxt-tbe-314987\n\nVillains and Purim\n\n \n\nA ligh
 t breakfast will be served
DTSTART;TZID=America/New_York:20200301T100000
DTEND;TZID=America/New_York:20200301T113000
END:VEVENT
END:VCALENDAR
