BEGIN:VCALENDAR
PRODID:-//eluceo/ical//2.0/EN
VERSION:2.0
CALSCALE:GREGORIAN
BEGIN:VEVENT
UID:90dd4763c9da31e8000e26b92021d9dd
DTSTAMP:20260426T044346Z
SUMMARY:10am-2pm Segev Koenig Bar Mitzvah
DESCRIPTION:The Knoxville Jewish Alliance\nThe Knoxville Jewish Alliance Ca
 lendar\nhttps://jewishknoxville.org/calendar/10am-2pm-segev-koenig-bar-mit
 zvah\n\nSegev Koenig Bar Mitzvah
DTSTART;TZID=America/New_York:20180113T100000
DTEND;TZID=America/New_York:20180113T140000
END:VEVENT
END:VCALENDAR
