BEGIN:VCALENDAR
PRODID:-//eluceo/ical//2.0/EN
VERSION:2.0
CALSCALE:GREGORIAN
BEGIN:VEVENT
UID:1de3af6ef016cbd4e91bb362f61b50f7
DTSTAMP:20260424T165202Z
SUMMARY:10am Adult Education w/Rabbi Boxt - TBE
DESCRIPTION:The Knoxville Jewish Alliance\nThe Knoxville Jewish Alliance Ca
 lendar\nhttps://jewishknoxville.org/calendar/10am-adult-education-wrabbi-b
 oxt-tbe-367114\n\nAdult Education w/Rabbi Boxt
DTSTART;TZID=America/New_York:20201115T100000
DTEND;TZID=America/New_York:20201115T113000
END:VEVENT
END:VCALENDAR
