BEGIN:VCALENDAR
PRODID:-//eluceo/ical//2.0/EN
VERSION:2.0
CALSCALE:GREGORIAN
BEGIN:VEVENT
UID:c539df9609f39b80418a18e8f6a3f017
DTSTAMP:20260424T084443Z
SUMMARY:10am B'yachad -TBE
DESCRIPTION:The Knoxville Jewish Alliance\nThe Knoxville Jewish Alliance Ca
 lendar\nhttps://jewishknoxville.org/calendar/10am-byachad-ajcc-243097\n\nB
 'yachad at AJCC\n\n 
DTSTART;TZID=America/New_York:20171029T100000
DTEND;TZID=America/New_York:20171029T123000
END:VEVENT
END:VCALENDAR
