BEGIN:VCALENDAR
PRODID:-//eluceo/ical//2.0/EN
VERSION:2.0
CALSCALE:GREGORIAN
BEGIN:VEVENT
UID:29b1f7def8aa3ad856e55d2e45f22d83
DTSTAMP:20260423T053002Z
SUMMARY:10am - Mitzvah Day planning mtg - AJCC Orwitz Room
DESCRIPTION:The Knoxville Jewish Alliance\nThe Knoxville Jewish Alliance Ca
 lendar\nhttps://jewishknoxville.org/calendar/10am-mitzvah-day-planning-mtg
 --ajcc-orwitz-room\n\nMitzvah Day planning meeting--open to all!
DTSTART;TZID=America/New_York:20180107T100000
DTEND;TZID=America/New_York:20180107T110000
END:VEVENT
END:VCALENDAR
