BEGIN:VCALENDAR
PRODID:-//eluceo/ical//2.0/EN
VERSION:2.0
CALSCALE:GREGORIAN
BEGIN:VEVENT
UID:7d2295e7f176c5c1bd555ed9f1e3ad0b
DTSTAMP:20260423T211341Z
SUMMARY:10a Religious School-HA
DESCRIPTION:The Knoxville Jewish Alliance\nThe Knoxville Jewish Alliance Ca
 lendar\nhttps://jewishknoxville.org/calendar/10am-religious-school-372422\
 n\nHeska Amuna Religious School (HARS)
DTSTART;TZID=America/New_York:20210411T100000
DTEND;TZID=America/New_York:20210411T123000
END:VEVENT
END:VCALENDAR
