BEGIN:VCALENDAR
PRODID:-//eluceo/ical//2.0/EN
VERSION:2.0
CALSCALE:GREGORIAN
BEGIN:VEVENT
UID:c849ea928285aed4777cd6228a0bf2e7
DTSTAMP:20260419T231834Z
SUMMARY:10am Rosh Chodesh Tevet Sisterhood brunch-TBE
DESCRIPTION:The Knoxville Jewish Alliance\nThe Knoxville Jewish Alliance Ca
 lendar\nhttps://jewishknoxville.org/calendar/10am-rosh-chodesh-tevet-siste
 rhood-brunch-tbe-250369\n\nRosh Chodesh Tevet - Sisterhood Brunch
DTSTART;TZID=America/New_York:20171217T100000
DTEND;TZID=America/New_York:20171217T130000
END:VEVENT
END:VCALENDAR
