BEGIN:VCALENDAR
PRODID:-//eluceo/ical//2.0/EN
VERSION:2.0
CALSCALE:GREGORIAN
BEGIN:VEVENT
UID:fbdac42c0b4613022c8b212029056822
DTSTAMP:20260421T123534Z
SUMMARY:10am Rosh Hashana Morning Service followed by luncheon-TBE
DESCRIPTION:The Knoxville Jewish Alliance\nThe Knoxville Jewish Alliance Ca
 lendar\nhttps://jewishknoxville.org/calendar/10am-rosh-hashana-morning-ser
 vice-followed-by-luncheon-tbe-241744\n\nRosh Hashana morning Service
DTSTART;TZID=America/New_York:20170921T100000
DTEND;TZID=America/New_York:20170921T123000
END:VEVENT
END:VCALENDAR
