BEGIN:VCALENDAR
PRODID:-//eluceo/ical//2.0/EN
VERSION:2.0
CALSCALE:GREGORIAN
BEGIN:VEVENT
UID:0b40e4399c8606ef1c5af05b7b9828b0
DTSTAMP:20260422T054118Z
SUMMARY:10am Simchat Torah/Consecration - TBE
DESCRIPTION:The Knoxville Jewish Alliance\nThe Knoxville Jewish Alliance Ca
 lendar\nhttps://jewishknoxville.org/calendar/10am-simchat-torahconsecratio
 n-tbe-266758\n\nSimchat Torah/Consecration
DTSTART;TZID=America/New_York:20180930T100000
DTEND;TZID=America/New_York:20180930T120000
END:VEVENT
END:VCALENDAR
