BEGIN:VCALENDAR
PRODID:-//eluceo/ical//2.0/EN
VERSION:2.0
CALSCALE:GREGORIAN
BEGIN:VEVENT
UID:b585fe8e1774ed0e54f153836521cd36
DTSTAMP:20260424T231650Z
SUMMARY:10a Sisterhood Hamentachen Bake- TBE
DESCRIPTION:The Knoxville Jewish Alliance\nThe Knoxville Jewish Alliance Ca
 lendar\nhttps://jewishknoxville.org/calendar/10am-sisterhood-hamentachen-b
 ake\n\n10a Sisterhood Hamentachen Bake- TBE
DTSTART;TZID=America/New_York:20260215T100000
DTEND;TZID=America/New_York:20260215T120000
END:VEVENT
END:VCALENDAR
