BEGIN:VCALENDAR
PRODID:-//eluceo/ical//2.0/EN
VERSION:2.0
CALSCALE:GREGORIAN
BEGIN:VEVENT
UID:d7ff838f159822741df9b3b9c98b0da1
DTSTAMP:20260426T021613Z
SUMMARY:10am Sisterhood Schmooze & Schmear - TBE
DESCRIPTION:The Knoxville Jewish Alliance\nThe Knoxville Jewish Alliance Ca
 lendar\nhttps://jewishknoxville.org/calendar/10am-sisterhood-schmooze-schm
 ear-tbe-294334\n\nSisterhood Schmooze & Schmear
DTSTART;TZID=America/New_York:20190120T100000
DTEND;TZID=America/New_York:20190120T120000
END:VEVENT
END:VCALENDAR
