BEGIN:VCALENDAR
PRODID:-//eluceo/ical//2.0/EN
VERSION:2.0
CALSCALE:GREGORIAN
BEGIN:VEVENT
UID:6610e31defae2e9a4adce6bc9bfc4f71
DTSTAMP:20260420T081622Z
SUMMARY:9:30am Avishai Ferency's Bar Mitzvah-Traditional Shabbat_HAS
DESCRIPTION:The Knoxville Jewish Alliance\nThe Knoxville Jewish Alliance Ca
 lendar\nhttps://jewishknoxville.org/calendar/10amfamily-shabbat_has8\n\nCo
 me celebrate the Bar Mitzvah of Avishai (Avi) Ferency.
DTSTART;TZID=America/New_York:20260509T093000
DTEND;TZID=America/New_York:20260509T120000
END:VEVENT
END:VCALENDAR
