BEGIN:VCALENDAR
PRODID:-//eluceo/ical//2.0/EN
VERSION:2.0
CALSCALE:GREGORIAN
BEGIN:VEVENT
UID:7e35ee0aa264e3abfea01cb180d08959
DTSTAMP:20260423T122944Z
SUMMARY:12-3 Craft Fair and Kids Crafting - HAS
DESCRIPTION:The Knoxville Jewish Alliance\nThe Knoxville Jewish Alliance Ca
 lendar\nhttps://jewishknoxville.org/calendar/11-3-craft-fair-and-kids-craf
 ting-has\n\nJoin us for another dazzeling Craft Fair with many artists dis
 playing their arts and crafts.\n\nIn addition\, there will be super fun cr
 afts for children of all ages to do and take home!
DTSTART;TZID=America/New_York:20250817T110000
DTEND;TZID=America/New_York:20250817T150000
END:VEVENT
END:VCALENDAR
