BEGIN:VCALENDAR
PRODID:-//eluceo/ical//2.0/EN
VERSION:2.0
CALSCALE:GREGORIAN
BEGIN:VEVENT
UID:cb066d76108a3e2585179e015f6cba8b
DTSTAMP:20260425T134537Z
SUMMARY:11:00 a.m - 1:00 p.m. - Canukah Sale - JCOR
DESCRIPTION:The Knoxville Jewish Alliance\nThe Knoxville Jewish Alliance Ca
 lendar\nhttps://jewishknoxville.org/calendar/1100-am-100-pm--canukah-sale-
 --jcor-211700\n\n11:00 a.m. Chanukah Sale at JCOR\n\n11:00 a.m. to 1:00 p.
 m. - Sisterhood's annual Chanukah Sale in the library. Gifts\, candles\, d
 reidels\, wrapping paper\, books.\n\n \n\nJewish Congregation of Oak Ridg
 e\n\n101 W Madison Ln\n\nOak Ridge\, TN 37830\n\n \n\nContact:\n\nContact
  Judy Raman for details\n\n482-1509
DTSTART;TZID=America/New_York:20161204T110000
DTEND;TZID=America/New_York:20161204T130000
END:VEVENT
END:VCALENDAR
