BEGIN:VCALENDAR
PRODID:-//eluceo/ical//2.0/EN
VERSION:2.0
CALSCALE:GREGORIAN
BEGIN:VEVENT
UID:907e05e37c6793ed8bef45d080314636
DTSTAMP:20260423T082022Z
SUMMARY:11:00 a.m. - AJCC Preschool Thanksgiving Feast - AJCC Caller Audito
 rium
DESCRIPTION:The Knoxville Jewish Alliance\nThe Knoxville Jewish Alliance Ca
 lendar\nhttps://jewishknoxville.org/calendar/1100-am-ajcc-preschool-thanks
 giving-feast--ajcc-caller-auditorium-250539\n\nAJCC Preschool Thanksgiving
  Feast\n\nFamilies & Friendshippers Welcome\n\nPlease bring vegetarian dis
 h to share\n\nPerformance by AJCC Preschool children
DTSTART;TZID=America/New_York:20171117T110000
DTEND;TZID=America/New_York:20171117T130000
END:VEVENT
END:VCALENDAR
