BEGIN:VCALENDAR
PRODID:-//eluceo/ical//2.0/EN
VERSION:2.0
CALSCALE:GREGORIAN
BEGIN:VEVENT
UID:58589b2e2b648a7bddf30bc7c3e066d5
DTSTAMP:20260423T110604Z
SUMMARY:11:00a - 12:30p - AJCC Preschool Thanksgiving Feast- AJCC Caller Au
 ditorium
DESCRIPTION:The Knoxville Jewish Alliance\nThe Knoxville Jewish Alliance Ca
 lendar\nhttps://jewishknoxville.org/calendar/1100a-1230p--ajcc-preschool-t
 hanksgiving-feast--ajcc-caller-auditorium-334263\n\n AJCC Preschool Thank
 sgiving Feast\n\nCaller Auditorium (Gym)\n\n11:00a - 12:30p 
DTSTART;TZID=America/New_York:20191122T110000
DTEND;TZID=America/New_York:20191122T123000
END:VEVENT
END:VCALENDAR
