BEGIN:VCALENDAR
PRODID:-//eluceo/ical//2.0/EN
VERSION:2.0
CALSCALE:GREGORIAN
BEGIN:VEVENT
UID:e501f228440f6fced75cccaf2471174a
DTSTAMP:20260424T203843Z
SUMMARY:11:30 a.m. - JFS Committee Meeting - AJCC Orwitz Room
DESCRIPTION:The Knoxville Jewish Alliance\nThe Knoxville Jewish Alliance Ca
 lendar\nhttps://jewishknoxville.org/calendar/1130-am-jfs-committee-meeting
 --ajcc-orwitz-room-237342\n\nJFS Committee Meeting
DTSTART;TZID=America/New_York:20170710T113000
DTEND;TZID=America/New_York:20170710T133000
END:VEVENT
END:VCALENDAR
