BEGIN:VCALENDAR
PRODID:-//eluceo/ical//2.0/EN
VERSION:2.0
CALSCALE:GREGORIAN
BEGIN:VEVENT
UID:76b7d0e212c22c39df2c1d3156082032
DTSTAMP:20260424T165255Z
SUMMARY:11:30a AJCC Preschool Thanksgiving Feast-AJCC Gym
DESCRIPTION:The Knoxville Jewish Alliance\nThe Knoxville Jewish Alliance Ca
 lendar\nhttps://jewishknoxville.org/calendar/1130a-ajcc-preschool-thanksgi
 ving-feast-ajcc-gym\n\n11:30a THANKSGIVING FEAST\n\nFamily vegetarian/dair
 y potluck. Special program will be presents by our students.
DTSTART;TZID=America/New_York:20161118T113000
DTEND;TZID=America/New_York:20161118T130000
END:VEVENT
END:VCALENDAR
