BEGIN:VCALENDAR
PRODID:-//eluceo/ical//2.0/EN
VERSION:2.0
CALSCALE:GREGORIAN
BEGIN:VEVENT
UID:ddb6acff935c235c3b2524a582a86ede
DTSTAMP:20260425T162527Z
SUMMARY:11:30a-Carole Zwick Mandel's Unveiling-HAS
DESCRIPTION:The Knoxville Jewish Alliance\nThe Knoxville Jewish Alliance Ca
 lendar\nhttps://jewishknoxville.org/calendar/1130a-carole-zwick-mandels-un
 veiling-has\n\nNew Jwish Cemetery
DTSTART;TZID=America/New_York:20250914T113000
DTEND;TZID=America/New_York:20250914T120000
END:VEVENT
END:VCALENDAR
