BEGIN:VCALENDAR
PRODID:-//eluceo/ical//2.0/EN
VERSION:2.0
CALSCALE:GREGORIAN
BEGIN:VEVENT
UID:8447a9ab83c7960f42434e3385feb3c9
DTSTAMP:20260422T072444Z
SUMMARY:11:30a Jewish Family Services Comm-AL
DESCRIPTION:The Knoxville Jewish Alliance\nThe Knoxville Jewish Alliance Ca
 lendar\nhttps://jewishknoxville.org/calendar/1130a-jewish-family-services-
 comm-al\n\n11:30a Jewish Family Services-Orwitz Room
DTSTART;TZID=America/New_York:20160314T113000
DTEND;TZID=America/New_York:20160314T130000
END:VEVENT
END:VCALENDAR
