BEGIN:VCALENDAR
PRODID:-//eluceo/ical//2.0/EN
VERSION:2.0
CALSCALE:GREGORIAN
BEGIN:VEVENT
UID:11bc469e74f4ab08c07373b56b2456d7
DTSTAMP:20260423T053217Z
SUMMARY:11:30a Jewish Family Services Comm-AL
DESCRIPTION:The Knoxville Jewish Alliance\nThe Knoxville Jewish Alliance Ca
 lendar\nhttps://jewishknoxville.org/calendar/1130a-jewish-family-services-
 comm-almay\n\n11:30a Jewish Family Services Committee-AL
DTSTART;TZID=America/New_York:20160509T113000
DTEND;TZID=America/New_York:20160509T130000
END:VEVENT
END:VCALENDAR
