BEGIN:VCALENDAR
PRODID:-//eluceo/ical//2.0/EN
VERSION:2.0
CALSCALE:GREGORIAN
BEGIN:VEVENT
UID:699dee96e1a81f9511c6dbbc4abf8a58
DTSTAMP:20260425T220058Z
SUMMARY:11:30am- Lunch & Learn-HAS
DESCRIPTION:The Knoxville Jewish Alliance\nThe Knoxville Jewish Alliance Ca
 lendar\nhttps://jewishknoxville.org/calendar/1130am-lunch--learn-has\n\nJo
 in Rabbi Rosenbaum every Wednesday for an hour class and discussion. Alway
 s on Zoom. In person when Rabbi is in Knoxville. Visit our website or Nu N
 ews for details.
DTSTART;TZID=America/New_York:20250730T113000
DTEND;TZID=America/New_York:20250730T123000
END:VEVENT
END:VCALENDAR
