BEGIN:VCALENDAR
PRODID:-//eluceo/ical//2.0/EN
VERSION:2.0
CALSCALE:GREGORIAN
BEGIN:VEVENT
UID:fa7e5d0ac7deb27188f7c4327a07585d
DTSTAMP:20260422T042037Z
SUMMARY:11a Adult Ed-TBE
DESCRIPTION:The Knoxville Jewish Alliance\nThe Knoxville Jewish Alliance Ca
 lendar\nhttps://jewishknoxville.org/calendar/11a-adult-ed-tbe\n\n11a Adult
  Education - Torah Study TBE
DTSTART;TZID=America/New_York:20160128T110000
DTEND;TZID=America/New_York:20160128T120000
END:VEVENT
END:VCALENDAR
