BEGIN:VCALENDAR
PRODID:-//eluceo/ical//2.0/EN
VERSION:2.0
CALSCALE:GREGORIAN
BEGIN:VEVENT
UID:12c653c1876364a6e74389c8e8468bb9
DTSTAMP:20260420T113220Z
SUMMARY:11a Cemetery Service-HA
DESCRIPTION:The Knoxville Jewish Alliance\nThe Knoxville Jewish Alliance Ca
 lendar\nhttps://jewishknoxville.org/calendar/11a-cemetery-service-ha-28230
 8\n\nAt the New Jewish Cemetery
DTSTART;TZID=America/New_York:20180916T110000
DTEND;TZID=America/New_York:20180916T120000
END:VEVENT
END:VCALENDAR
