BEGIN:VCALENDAR
PRODID:-//eluceo/ical//2.0/EN
VERSION:2.0
CALSCALE:GREGORIAN
BEGIN:VEVENT
UID:e2f6fadef524359ac5d95d9bf5f75069
DTSTAMP:20260424T152925Z
SUMMARY:11a Jewish Genetic Diseases Class - HA
DESCRIPTION:The Knoxville Jewish Alliance\nThe Knoxville Jewish Alliance Ca
 lendar\nhttps://jewishknoxville.org/calendar/11a-jewish-genetic-diseases-c
 lass-ha1\n\nThis class will be taught by Dr. Jeff Becker.
DTSTART;TZID=America/New_York:20191208T110000
DTEND;TZID=America/New_York:20191208T120000
END:VEVENT
END:VCALENDAR
