BEGIN:VCALENDAR
PRODID:-//eluceo/ical//2.0/EN
VERSION:2.0
CALSCALE:GREGORIAN
BEGIN:VEVENT
UID:a5ae676d351668276d908eb848b97ba5
DTSTAMP:20260425T204613Z
SUMMARY:11a Judaism 101 Class-HA
DESCRIPTION:The Knoxville Jewish Alliance\nThe Knoxville Jewish Alliance Ca
 lendar\nhttps://jewishknoxville.org/calendar/11a-judaism-101-class-ha7-272
 323\n\nJudaism 101 - Everyone welcome\, may begin this class at any time.
  Call 865-522-0701 for more information.
DTSTART;TZID=America/New_York:20180701T110000
DTEND;TZID=America/New_York:20180701T120000
END:VEVENT
END:VCALENDAR
