BEGIN:VCALENDAR
PRODID:-//eluceo/ical//2.0/EN
VERSION:2.0
CALSCALE:GREGORIAN
BEGIN:VEVENT
UID:09bd6e7e2ad1a5681e5c44925a9646bd
DTSTAMP:20260422T154552Z
SUMMARY:11a Sukkot Service & Lunch-JCOR
DESCRIPTION:The Knoxville Jewish Alliance\nThe Knoxville Jewish Alliance Ca
 lendar\nhttps://jewishknoxville.org/calendar/11a-sukkot-service-lunch-jcor
 -243297\n\nService followed by lunch in the sukkah
DTSTART;TZID=America/New_York:20171005T110000
DTEND;TZID=America/New_York:20171005T130000
END:VEVENT
END:VCALENDAR
