BEGIN:VCALENDAR
PRODID:-//eluceo/ical//2.0/EN
VERSION:2.0
CALSCALE:GREGORIAN
BEGIN:VEVENT
UID:cc4e943f79440f987e618663ef74b83e
DTSTAMP:20260422T221004Z
SUMMARY:11a Torah Study-TBE
DESCRIPTION:The Knoxville Jewish Alliance\nThe Knoxville Jewish Alliance Ca
 lendar\nhttps://jewishknoxville.org/calendar/11a-torah-study-tbe-206731\n\
 n11a Torah Study
DTSTART;TZID=America/New_York:20160908T110000
DTEND;TZID=America/New_York:20160908T130000
END:VEVENT
END:VCALENDAR
