BEGIN:VCALENDAR
PRODID:-//eluceo/ical//2.0/EN
VERSION:2.0
CALSCALE:GREGORIAN
BEGIN:VEVENT
UID:0cfaa4aba59b97a6212a880f112a45a2
DTSTAMP:20260423T021215Z
SUMMARY:11am Adult Education/Torah Study - TBE
DESCRIPTION:The Knoxville Jewish Alliance\nThe Knoxville Jewish Alliance Ca
 lendar\nhttps://jewishknoxville.org/calendar/11am--adult--educationtorah-s
 tudy-tbe-367119\n\n11am Adult Education/Torah Study - TBE
DTSTART;TZID=America/New_York:20201105T110000
DTEND;TZID=America/New_York:20201105T130000
END:VEVENT
END:VCALENDAR
