BEGIN:VCALENDAR
PRODID:-//eluceo/ical//2.0/EN
VERSION:2.0
CALSCALE:GREGORIAN
BEGIN:VEVENT
UID:c82072525c574f5e1ec1d3b4fe4824c9
DTSTAMP:20260424T231640Z
SUMMARY:11am-1pm - Shavuot Pool Party - AJCC
DESCRIPTION:The Knoxville Jewish Alliance\nThe Knoxville Jewish Alliance Ca
 lendar\nhttps://jewishknoxville.org/calendar/11am-1pm-shavuot-pool-party--
 ajcc\n\nFamily Pool Party hsoted by PJ Library\, Temple Beth El Religious 
 School\, Knoxville Jewish Day School\, and Jewish Congregation of Oak Ridg
 e.
DTSTART;TZID=America/New_York:20250601T110000
DTEND;TZID=America/New_York:20250601T130000
END:VEVENT
END:VCALENDAR
