BEGIN:VCALENDAR
PRODID:-//eluceo/ical//2.0/EN
VERSION:2.0
CALSCALE:GREGORIAN
BEGIN:VEVENT
UID:927f9aefb90e2fc67805f25e000bb683
DTSTAMP:20260423T082602Z
SUMMARY:11am Adult Education/Torah Study-TBE
DESCRIPTION:The Knoxville Jewish Alliance\nThe Knoxville Jewish Alliance Ca
 lendar\nhttps://jewishknoxville.org/calendar/11am-adult-educationtorah-stu
 dy-tbe-230447\n\nTorah Study
DTSTART;TZID=America/New_York:20170706T110000
DTEND;TZID=America/New_York:20170706T130000
END:VEVENT
END:VCALENDAR
