BEGIN:VCALENDAR
PRODID:-//eluceo/ical//2.0/EN
VERSION:2.0
CALSCALE:GREGORIAN
BEGIN:VEVENT
UID:008b1c3be6001dbad938cd03563236a1
DTSTAMP:20260423T175003Z
SUMMARY:11am Simchat Torah-TBE
DESCRIPTION:The Knoxville Jewish Alliance\nThe Knoxville Jewish Alliance Ca
 lendar\nhttps://jewishknoxville.org/calendar/11am-simchat-torah-tbe\n\n11a
 m-simchat-torah-tbe
DTSTART;TZID=America/New_York:20251019T110000
DTEND;TZID=America/New_York:20251019T130000
END:VEVENT
END:VCALENDAR
