BEGIN:VCALENDAR
PRODID:-//eluceo/ical//2.0/EN
VERSION:2.0
CALSCALE:GREGORIAN
BEGIN:VEVENT
UID:668f0176184f418d85c79af8966afec1
DTSTAMP:20260423T004716Z
SUMMARY:11am Torah Study - TBE
DESCRIPTION:The Knoxville Jewish Alliance\nThe Knoxville Jewish Alliance Ca
 lendar\nhttps://jewishknoxville.org/calendar/11am-torah-study-tbe-219836\n
 \n11am Torah Study - EVERYONE WELCOME!
DTSTART;TZID=America/New_York:20170126T110000
DTEND;TZID=America/New_York:20170126T130000
END:VEVENT
END:VCALENDAR
