BEGIN:VCALENDAR
PRODID:-//eluceo/ical//2.0/EN
VERSION:2.0
CALSCALE:GREGORIAN
BEGIN:VEVENT
UID:e1774952745bbe575a325ebce9d24ffe
DTSTAMP:20260421T111024Z
SUMMARY:12-2pm - JFS L&L:  Bill Berez - AJCC
DESCRIPTION:The Knoxville Jewish Alliance\nThe Knoxville Jewish Alliance Ca
 lendar\nhttps://jewishknoxville.org/calendar/12-2pm-jfs-ll-bill-berez---aj
 cc\n\nKJA's Jewish Family Services presents Learn & Live with a presentati
 on by Bill Berez in the Orwitz Room at the AJCC.\n\nMore information and r
 egistration to come.
DTSTART;TZID=America/New_York:20250820T120000
DTEND;TZID=America/New_York:20250820T140000
END:VEVENT
END:VCALENDAR
