BEGIN:VCALENDAR
PRODID:-//eluceo/ical//2.0/EN
VERSION:2.0
CALSCALE:GREGORIAN
BEGIN:VEVENT
UID:68458797269e8a4e411b44adca2e838e
DTSTAMP:20260423T165718Z
SUMMARY:12:00-1:00p Rosh Hashana with Special Friends - KJDS
DESCRIPTION:The Knoxville Jewish Alliance\nThe Knoxville Jewish Alliance Ca
 lendar\nhttps://jewishknoxville.org/calendar/1200-100p-rosh-hashana-with-s
 pecial-friends-kjds\n\nOur Special Friends will join us for a lunch time p
 rogram celebrating Rosh Hashana 
DTSTART;TZID=America/New_York:20170919T120000
DTEND;TZID=America/New_York:20170919T130000
END:VEVENT
END:VCALENDAR
