BEGIN:VCALENDAR
PRODID:-//eluceo/ical//2.0/EN
VERSION:2.0
CALSCALE:GREGORIAN
BEGIN:VEVENT
UID:6d2ef90df89d6cc5b17f42d5d6c772e4
DTSTAMP:20260424T124747Z
SUMMARY:12:00-1:30 PM Thanksgiving Feast with Special Friends - KJDS
DESCRIPTION:The Knoxville Jewish Alliance\nThe Knoxville Jewish Alliance Ca
 lendar\nhttps://jewishknoxville.org/calendar/1200-130-pm-thanksgiving-feas
 t-with-special-friends-kjds\n\nThanksgiving program with Special Friends
DTSTART;TZID=America/New_York:20171121T120000
DTEND;TZID=America/New_York:20171121T133000
END:VEVENT
END:VCALENDAR
