BEGIN:VCALENDAR
PRODID:-//eluceo/ical//2.0/EN
VERSION:2.0
CALSCALE:GREGORIAN
BEGIN:VEVENT
UID:7447723087185658536aac05f4d7bb2b
DTSTAMP:20260426T010202Z
SUMMARY:12:00-2:00 PM - Mah Jongg - AJCC Orwitz Room 217
DESCRIPTION:The Knoxville Jewish Alliance\nThe Knoxville Jewish Alliance Ca
 lendar\nhttps://jewishknoxville.org/calendar/1200-200-pm-mah-jongg--ajcc-o
 rwitz-room-217-301274\n\n12:00-1:30 PM - Mah Jongg - AJCC Orwitz Room 217
DTSTART;TZID=America/New_York:20190208T000000
DTEND;TZID=America/New_York:20190208T020000
END:VEVENT
END:VCALENDAR
