BEGIN:VCALENDAR
PRODID:-//eluceo/ical//2.0/EN
VERSION:2.0
CALSCALE:GREGORIAN
BEGIN:VEVENT
UID:a34f28c7952e45f4c22532d9d345d659
DTSTAMP:20260426T024807Z
SUMMARY:12:00-2:00pm JFS L&L - KJA
DESCRIPTION:The Knoxville Jewish Alliance\nThe Knoxville Jewish Alliance Ca
 lendar\nhttps://jewishknoxville.org/calendar/1200-200pm-jfs-ll-kja\n\nLear
 n & Live with Jewish Family Services
DTSTART;TZID=America/New_York:20250521T120000
DTEND;TZID=America/New_York:20250521T140000
END:VEVENT
END:VCALENDAR
