BEGIN:VCALENDAR
PRODID:-//eluceo/ical//2.0/EN
VERSION:2.0
CALSCALE:GREGORIAN
BEGIN:VEVENT
UID:e484ebe89a9a5b70f6ea26976b4e71eb
DTSTAMP:20260424T062152Z
SUMMARY:12:30 - 2:00 p.m. - Mah Jongg Class - AJCC - Room TBD
DESCRIPTION:The Knoxville Jewish Alliance\nThe Knoxville Jewish Alliance Ca
 lendar\nhttps://jewishknoxville.org/calendar/1230-200-pm--mah-jongg-class-
 --ajcc---room-tbd-180306\n\nMah Jongg Class
DTSTART;TZID=America/New_York:20160316T123000
DTEND;TZID=America/New_York:20160316T140000
END:VEVENT
END:VCALENDAR
