BEGIN:VCALENDAR
PRODID:-//eluceo/ical//2.0/EN
VERSION:2.0
CALSCALE:GREGORIAN
BEGIN:VEVENT
UID:5f8dce333b2c4394006b0d1b2693e301
DTSTAMP:20260424T164916Z
SUMMARY:12:30 pm Hadassah "ALL ABOARD THE HADASSAH TRAIN"
DESCRIPTION:The Knoxville Jewish Alliance\nThe Knoxville Jewish Alliance Ca
 lendar\nhttps://jewishknoxville.org/calendar/1230-pm-hadassah-all-aboard-t
 he-hadassah-train\n\n
DTSTART;TZID=America/New_York:20180318T123000
DTEND;TZID=America/New_York:20180318T143000
END:VEVENT
END:VCALENDAR
